BEGIN:VCALENDAR
VERSION:2.0
PRODID:-//Mühlbachhofschule - ECPv6.15.20//NONSGML v1.0//EN
CALSCALE:GREGORIAN
METHOD:PUBLISH
X-ORIGINAL-URL:https://muehlbachhofschule.de
X-WR-CALDESC:Veranstaltungen für Mühlbachhofschule
REFRESH-INTERVAL;VALUE=DURATION:PT1H
X-Robots-Tag:noindex
X-PUBLISHED-TTL:PT1H
BEGIN:VTIMEZONE
TZID:UTC
BEGIN:STANDARD
TZOFFSETFROM:+0000
TZOFFSETTO:+0000
TZNAME:UTC
DTSTART:20250101T000000
END:STANDARD
END:VTIMEZONE
BEGIN:VEVENT
DTSTART;VALUE=DATE:20260601
DTEND;VALUE=DATE:20260606
DTSTAMP:20260423T102259
CREATED:20251014T111307Z
LAST-MODIFIED:20251014T111307Z
UID:6732-1780272000-1780703999@muehlbachhofschule.de
SUMMARY:Schließtag GTS
DESCRIPTION:
URL:https://muehlbachhofschule.de/event/schliesstag-gts-5/
CATEGORIES:Schließtage GTS
END:VEVENT
BEGIN:VEVENT
DTSTART;VALUE=DATE:20260618
DTEND;VALUE=DATE:20260619
DTSTAMP:20260423T102259
CREATED:20251014T111630Z
LAST-MODIFIED:20251014T111630Z
UID:6746-1781740800-1781827199@muehlbachhofschule.de
SUMMARY:Schließtag GTS - Info beachten!
DESCRIPTION:Vormittagsunterricht findet statt.
URL:https://muehlbachhofschule.de/event/schliesstag-gts-info-beachten-2/
CATEGORIES:Schließtage GTS
END:VEVENT
BEGIN:VEVENT
DTSTART;VALUE=DATE:20260619
DTEND;VALUE=DATE:20260620
DTSTAMP:20260423T102259
CREATED:20251014T111601Z
LAST-MODIFIED:20251014T111601Z
UID:6744-1781827200-1781913599@muehlbachhofschule.de
SUMMARY:Schließtag GTS - Info beachten!
DESCRIPTION:Vormittagsunterricht findet statt.
URL:https://muehlbachhofschule.de/event/schliesstag-gts-info-beachten/
CATEGORIES:Schließtage GTS
END:VEVENT
END:VCALENDAR