BEGIN:VCALENDAR
VERSION:2.0
PRODID:-//Mühlbachhofschule - ECPv6.15.20//NONSGML v1.0//EN
CALSCALE:GREGORIAN
METHOD:PUBLISH
X-WR-CALNAME:Mühlbachhofschule
X-ORIGINAL-URL:https://muehlbachhofschule.de
X-WR-CALDESC:Veranstaltungen für Mühlbachhofschule
REFRESH-INTERVAL;VALUE=DURATION:PT1H
X-Robots-Tag:noindex
X-PUBLISHED-TTL:PT1H
BEGIN:VTIMEZONE
TZID:UTC
BEGIN:STANDARD
TZOFFSETFROM:+0000
TZOFFSETTO:+0000
TZNAME:UTC
DTSTART:20250101T000000
END:STANDARD
END:VTIMEZONE
BEGIN:VEVENT
DTSTART;VALUE=DATE:20260619
DTEND;VALUE=DATE:20260620
DTSTAMP:20260423T113120
CREATED:20251014T111601Z
LAST-MODIFIED:20251014T111601Z
UID:6744-1781827200-1781913599@muehlbachhofschule.de
SUMMARY:Schließtag GTS - Info beachten!
DESCRIPTION:Vormittagsunterricht findet statt.
URL:https://muehlbachhofschule.de/event/schliesstag-gts-info-beachten/
CATEGORIES:Schließtage GTS
END:VEVENT
END:VCALENDAR