BEGIN:VCALENDAR
VERSION:2.0
PRODID:-//Mühlbachhofschule - ECPv6.15.20//NONSGML v1.0//EN
CALSCALE:GREGORIAN
METHOD:PUBLISH
X-WR-CALNAME:Mühlbachhofschule
X-ORIGINAL-URL:https://muehlbachhofschule.de
X-WR-CALDESC:Veranstaltungen für Mühlbachhofschule
REFRESH-INTERVAL;VALUE=DURATION:PT1H
X-Robots-Tag:noindex
X-PUBLISHED-TTL:PT1H
BEGIN:VTIMEZONE
TZID:UTC
BEGIN:STANDARD
TZOFFSETFROM:+0000
TZOFFSETTO:+0000
TZNAME:UTC
DTSTART:20250101T000000
END:STANDARD
END:VTIMEZONE
BEGIN:VEVENT
DTSTART;VALUE=DATE:20260421
DTEND;VALUE=DATE:20260422
DTSTAMP:20260421T133032
CREATED:20250919T051315Z
LAST-MODIFIED:20250919T051315Z
UID:6591-1776729600-1776815999@muehlbachhofschule.de
SUMMARY:VERA Deutsch (Lesen)
DESCRIPTION:
URL:https://muehlbachhofschule.de/event/vera-deutsch-lesen/
CATEGORIES:Normaler Termin
END:VEVENT
BEGIN:VEVENT
DTSTART;VALUE=DATE:20260421
DTEND;VALUE=DATE:20260422
DTSTAMP:20260421T133032
CREATED:20251014T111130Z
LAST-MODIFIED:20251014T111656Z
UID:6724-1776729600-1776815999@muehlbachhofschule.de
SUMMARY:Schließtag GTS - Info beachten!
DESCRIPTION:Vormittagsunterricht findet statt.
URL:https://muehlbachhofschule.de/event/schliesstag-gts/
CATEGORIES:Schließtage GTS
END:VEVENT
END:VCALENDAR