BEGIN:VCALENDAR
VERSION:2.0
PRODID:-//Mühlbachhofschule - ECPv6.15.20//NONSGML v1.0//EN
CALSCALE:GREGORIAN
METHOD:PUBLISH
X-WR-CALNAME:Mühlbachhofschule
X-ORIGINAL-URL:https://muehlbachhofschule.de
X-WR-CALDESC:Veranstaltungen für Mühlbachhofschule
REFRESH-INTERVAL;VALUE=DURATION:PT1H
X-Robots-Tag:noindex
X-PUBLISHED-TTL:PT1H
BEGIN:VTIMEZONE
TZID:UTC
BEGIN:STANDARD
TZOFFSETFROM:+0000
TZOFFSETTO:+0000
TZNAME:UTC
DTSTART:20250101T000000
END:STANDARD
END:VTIMEZONE
BEGIN:VEVENT
DTSTART;VALUE=DATE:20260309
DTEND;VALUE=DATE:20260313
DTSTAMP:20260423T102104
CREATED:20250919T051107Z
LAST-MODIFIED:20250919T051107Z
UID:6583-1773014400-1773359999@muehlbachhofschule.de
SUMMARY:Anmeldung weiterführende Schulen\, Freistellung bitte genehmigen lassen!
DESCRIPTION:
URL:https://muehlbachhofschule.de/event/anmeldung-weiterfuehrende-schulen-freistellung-bitte-genehmigen-lassen/
CATEGORIES:Normaler Termin
END:VEVENT
END:VCALENDAR