BEGIN:VCALENDAR
VERSION:2.0
PRODID:-//Mühlbachhofschule - ECPv6.15.20//NONSGML v1.0//EN
CALSCALE:GREGORIAN
METHOD:PUBLISH
X-WR-CALNAME:Mühlbachhofschule
X-ORIGINAL-URL:https://muehlbachhofschule.de
X-WR-CALDESC:Veranstaltungen für Mühlbachhofschule
REFRESH-INTERVAL;VALUE=DURATION:PT1H
X-Robots-Tag:noindex
X-PUBLISHED-TTL:PT1H
BEGIN:VTIMEZONE
TZID:UTC
BEGIN:STANDARD
TZOFFSETFROM:+0000
TZOFFSETTO:+0000
TZNAME:UTC
DTSTART:20250101T000000
END:STANDARD
END:VTIMEZONE
BEGIN:VEVENT
DTSTART;VALUE=DATE:20260216
DTEND;VALUE=DATE:20260221
DTSTAMP:20260423T112951
CREATED:20250919T051509Z
LAST-MODIFIED:20250919T051509Z
UID:6601-1771200000-1771631999@muehlbachhofschule.de
SUMMARY:Faschingsferien
DESCRIPTION:
URL:https://muehlbachhofschule.de/event/faschingsferien/
CATEGORIES:Ferien
END:VEVENT
END:VCALENDAR